BEGIN:VCALENDAR
VERSION:2.0
PRODID:-//Independent Neurorehabilitation Providers Alliance - ECPv6.15.20//NONSGML v1.0//EN
CALSCALE:GREGORIAN
METHOD:PUBLISH
X-ORIGINAL-URL:https://in-pa.org.uk
X-WR-CALDESC:Events for Independent Neurorehabilitation Providers Alliance
REFRESH-INTERVAL;VALUE=DURATION:PT1H
X-Robots-Tag:noindex
X-PUBLISHED-TTL:PT1H
BEGIN:VTIMEZONE
TZID:UTC
BEGIN:STANDARD
TZOFFSETFROM:+0000
TZOFFSETTO:+0000
TZNAME:UTC
DTSTART:20250101T000000
END:STANDARD
END:VTIMEZONE
BEGIN:VEVENT
DTSTART;VALUE=DATE:20260609
DTEND;VALUE=DATE:20260610
DTSTAMP:20260422T215122
CREATED:20260221T063630Z
LAST-MODIFIED:20260221T063630Z
UID:1837-1780963200-1781049599@in-pa.org.uk
SUMMARY:Cygnet Neuropsychiatry Conference 2026
DESCRIPTION:SAVE THE DATE!
URL:https://in-pa.org.uk/events/cygnet-neuropsychiatry-conference-2026/
LOCATION:The Eastside Rooms\, Woodcock Street\, Birmingham\, B7 4BL
CATEGORIES:Conference
ATTACH;FMTTYPE=image/jpeg:https://in-pa.org.uk/wp-content/uploads/2022/01/cygnet-healthcare.jpg
END:VEVENT
END:VCALENDAR