BEGIN:VCALENDAR
VERSION:2.0
PRODID:-//Independent Neurorehabilitation Providers Alliance - ECPv6.15.20//NONSGML v1.0//EN
CALSCALE:GREGORIAN
METHOD:PUBLISH
X-ORIGINAL-URL:https://in-pa.org.uk
X-WR-CALDESC:Events for Independent Neurorehabilitation Providers Alliance
REFRESH-INTERVAL;VALUE=DURATION:PT1H
X-Robots-Tag:noindex
X-PUBLISHED-TTL:PT1H
BEGIN:VTIMEZONE
TZID:UTC
BEGIN:STANDARD
TZOFFSETFROM:+0000
TZOFFSETTO:+0000
TZNAME:UTC
DTSTART:20250101T000000
END:STANDARD
END:VTIMEZONE
BEGIN:VEVENT
DTSTART;VALUE=DATE:20261001
DTEND;VALUE=DATE:20261002
DTSTAMP:20260423T005212
CREATED:20260221T064205Z
LAST-MODIFIED:20260221T064205Z
UID:1840-1790812800-1790899199@in-pa.org.uk
SUMMARY:STEPS Amputee Conference
DESCRIPTION:SAVE THE DATE!
URL:https://in-pa.org.uk/events/steps-amputee-conference/
LOCATION:Manchester Hall Hotel\, 36 Great Bridge Street\, Manchester\, M3 3BT
CATEGORIES:Conference
ATTACH;FMTTYPE=image/gif:https://in-pa.org.uk/wp-content/uploads/2021/05/stepslogo.gif
END:VEVENT
END:VCALENDAR